BEGIN:VCALENDAR
VERSION:2.0
PRODID:-//Instituto ENFSERVIC - Saúde, Educação e Publicação Científica - ECPv6.15.10//NONSGML v1.0//EN
CALSCALE:GREGORIAN
METHOD:PUBLISH
X-ORIGINAL-URL:https://www.institutoenfservic.com.br.recien.com.br
X-WR-CALDESC:Eventos para Instituto ENFSERVIC - Saúde, Educação e Publicação Científica
REFRESH-INTERVAL;VALUE=DURATION:PT1H
X-Robots-Tag:noindex
X-PUBLISHED-TTL:PT1H
BEGIN:VTIMEZONE
TZID:America/Sao_Paulo
BEGIN:STANDARD
TZOFFSETFROM:-0300
TZOFFSETTO:-0300
TZNAME:-03
DTSTART:20230101T000000
END:STANDARD
END:VTIMEZONE
BEGIN:VEVENT
DTSTART;TZID=America/Sao_Paulo:20240628T074500
DTEND;TZID=America/Sao_Paulo:20240628T180000
DTSTAMP:20260423T163726
CREATED:20240415T202217Z
LAST-MODIFIED:20240501T133129Z
UID:1046-1719560700-1719597600@www.institutoenfservic.com.br.recien.com.br
SUMMARY:SIMECSAÚDE-2024: 3º Simpósio Internacional Multidisciplinar de Estudos Científicos em Saúde
DESCRIPTION:O Instituto Enfservic apresenta o SIMECSAÚDE-2024: 3º Simpósio Internacional Multidisciplinar de Estudos em Saúde\, abordará o tema: “Saúde e diversidade: uma visão atual e multidisciplinar” um evento científico que possibilita discussões de temas do cotidiano na área da saúde. \nO SIMECSAÚDE-2024 visa proporcionar aos profissionais da saúde e estudantes atualização científica promovida por palestrantes que irão apresentar um olhar multidisciplinar para a manutenção da qualidade de vida e melhor assistência à saúde. \nSeu formato será de palestras e debates 100% online e apresentação de trabalhos científicos\, com acesso por meio de um Computador\, Notebook\, Tablet ou Smartphone\, de qualquer lugar que tenha acesso a internet. \nO evento acontecerá no dia 28 de junho de 2024\, sexta-feira\, das 07h45 às 18h00\, dividido em dois momentos das 07h45 às 12h palestras e debates; das 13h às 18h apresentações de trabalhos nas salas específicas.
URL:https://www.institutoenfservic.com.br.recien.com.br/evento/simecsaude-2024-3o-simposio-internacional-multidisciplinar-de-estudos-cientificos-em-saude/
LOCATION:EVENTO ONLINE – Even3\, https://www.even3.com.br/simecsaude2024/\, Brasil
ORGANIZER;CN="Instituto Enfservic":MAILTO:enfservicsaude@gmail.com
END:VEVENT
BEGIN:VEVENT
DTSTART;TZID=America/Sao_Paulo:20240516T080000
DTEND;TZID=America/Sao_Paulo:20240516T130000
DTSTAMP:20260423T163726
CREATED:20240501T130804Z
LAST-MODIFIED:20240501T133029Z
UID:1293-1715846400-1715864400@www.institutoenfservic.com.br.recien.com.br
SUMMARY:COREN-SP - Semana da Enfermagem em Osasco e Região
DESCRIPTION:Semana da Enfermagem na região oeste e será em Osasco. Sua presença é muito importante! Teremos palestras\, mesas-redondas\, relatos e muito networking. Participe. A Semana da Enfermagem é sua!
URL:https://www.institutoenfservic.com.br.recien.com.br/evento/coren-sp-semana-da-enfermagem-em-osasco-e-regiao/
LOCATION:CENTRO DE EVENTOS PEDRO BORTOLOSSO\, Av. Visconde de Nova Granada\, 513\, Osasco\, São Paulo\, Brasil
END:VEVENT
END:VCALENDAR